BEGIN:VCALENDAR
VERSION:2.0
PRODID:-//wp-events-plugin.com//7.2.3.1//EN
TZID:America/New_York
X-WR-TIMEZONE:America/New_York
BEGIN:VEVENT
UID:206-4126@fmlab.camden.rutgers.edu
DTSTART;TZID=America/New_York:20180411T080000
DTEND;TZID=America/New_York:20180411T090000
DTSTAMP:20180125T220438Z
URL:https://fmlab.camden.rutgers.edu/events/equities-exam-4-training-part-
 ii-2018-04-11/
SUMMARY:Equities - Exam # 4 training (Part II)
DESCRIPTION:
END:VEVENT
BEGIN:VTIMEZONE
TZID:America/New_York
X-LIC-LOCATION:America/New_York
BEGIN:DAYLIGHT
DTSTART:20180311T030000
TZOFFSETFROM:-0500
TZOFFSETTO:-0400
TZNAME:EDT
END:DAYLIGHT
END:VTIMEZONE
END:VCALENDAR